BEGIN:VCALENDAR
VERSION:2.0
PRODID:-//Squarespace Inc/Squarespace 6//v6//EN
BEGIN:VEVENT
UID:5a583c4c53450a9c630a0869@squarespace.com
DTSTAMP:20180112T044141Z
DTSTART:20180812T120000Z
DTEND:20180812T210000Z
SUMMARY:UPNA Club Carnival
END:VEVENT
END:VCALENDAR
