BEGIN:VCALENDAR
VERSION:2.0
PRODID:-//Squarespace Inc/Squarespace 6//v6//EN
BEGIN:VEVENT
UID:5a583c00e2c483ae8299388d@squarespace.com
DTSTAMP:20180112T043952Z
DTSTART:20180811T160000Z
DTEND:20180811T210000Z
SUMMARY:Round 13 Fixtures 
END:VEVENT
END:VCALENDAR
