BEGIN:VCALENDAR
VERSION:2.0
PRODID:-//Squarespace Inc/Squarespace 6//v6//EN
BEGIN:VEVENT
UID:5a583bc3c830250f7bb1d920@squarespace.com
DTSTAMP:20180112T043847Z
DTSTART:20180728T160000Z
DTEND:20180728T210000Z
SUMMARY:Round 11 Fixtures 
END:VEVENT
END:VCALENDAR
