BEGIN:VCALENDAR
VERSION:2.0
PRODID:-//Squarespace Inc/Squarespace 6//v6//EN
BEGIN:VEVENT
UID:5a583ba09140b7a084565730@squarespace.com
DTSTAMP:20180112T043815Z
DTSTART:20180721T160000Z
DTEND:20180721T210000Z
SUMMARY:Round 10 Fixtures 
END:VEVENT
END:VCALENDAR
