BEGIN:VCALENDAR
VERSION:2.0
PRODID:-//Squarespace Inc/Squarespace 6//v6//EN
BEGIN:VEVENT
UID:5a583b5e9140b7a084564ed0@squarespace.com
DTSTAMP:20180112T043704Z
DTSTART:20180609T160000Z
DTEND:20180609T210000Z
SUMMARY:Round 8 Fixtures 
END:VEVENT
END:VCALENDAR
