BEGIN:VCALENDAR
VERSION:2.0
PRODID:-//Squarespace Inc/Squarespace 6//v6//EN
BEGIN:VEVENT
UID:5a583b1b4192026440ee8cf1@squarespace.com
DTSTAMP:20180112T043619Z
DTSTART:20180602T160000Z
DTEND:20180602T210000Z
SUMMARY:Round 7 Fixtures 
END:VEVENT
END:VCALENDAR
