BEGIN:VCALENDAR
VERSION:2.0
PRODID:-//Squarespace Inc/Squarespace 6//v6//EN
BEGIN:VEVENT
UID:5a583b794192026440ee9918@squarespace.com
DTSTAMP:20180112T043741Z
DTSTART:20180616T160000Z
DTEND:20180616T210000Z
SUMMARY:Round 9 Fixtures 
END:VEVENT
END:VCALENDAR
