BEGIN:VCALENDAR
VERSION:2.0
PRODID:-//Squarespace Inc/Squarespace 6//v6//EN
BEGIN:VEVENT
UID:5a583afdf9619a75a137589d@squarespace.com
DTSTAMP:20180112T043609Z
DTSTART:20180526T160000Z
DTEND:20180526T210000Z
SUMMARY:Round 6 Fixtures 
END:VEVENT
END:VCALENDAR
