BEGIN:VCALENDAR
VERSION:2.0
PRODID:-//Squarespace Inc/Squarespace 6//v6//EN
BEGIN:VEVENT
UID:5a583ad8e2c483ae829912fb@squarespace.com
DTSTAMP:20180112T043453Z
DTSTART:20180512T160000Z
DTEND:20180512T210000Z
SUMMARY:Round 5 Fixtures 
END:VEVENT
END:VCALENDAR
