BEGIN:VCALENDAR
VERSION:2.0
PRODID:-//Squarespace Inc/Squarespace 6//v6//EN
BEGIN:VEVENT
UID:5a583a7ae4966b9049a77dca@squarespace.com
DTSTAMP:20180127T220551Z
DTSTART:20180421T160000Z
DTEND:20180421T210000Z
SUMMARY:Round 3 Fixtures 
END:VEVENT
END:VCALENDAR
