BEGIN:VCALENDAR
VERSION:2.0
PRODID:-//Squarespace Inc/Squarespace 6//v6//EN
BEGIN:VEVENT
UID:5a77f39bec212dda5862c251@squarespace.com
DTSTAMP:20180205T060346Z
DTSTART:20180303T190000Z
DTEND:20180304T000000Z
SUMMARY:Upna Grading Day
END:VEVENT
END:VCALENDAR
