BEGIN:VCALENDAR
VERSION:2.0
PRODID:-//Squarespace Inc/Squarespace 6//v6//EN
BEGIN:VEVENT
UID:5a517463f9619a83b9686668@squarespace.com
DTSTAMP:20180112T043414Z
DTSTART:20180317T160000Z
DTEND:20180317T210000Z
SUMMARY:Round 1 Fixtures 
END:VEVENT
END:VCALENDAR
