BEGIN:VCALENDAR
VERSION:2.0
PRODID:-//Squarespace Inc/Squarespace 6//v6//EN
BEGIN:VEVENT
UID:5a77f331419202f8d98656c9@squarespace.com
DTSTAMP:20180205T060218Z
DTSTART:20180224T190000Z
DTEND:20180225T000000Z
SUMMARY:Upna Grading Day
END:VEVENT
END:VCALENDAR
