BEGIN:VCALENDAR
VERSION:2.0
PRODID:-//Squarespace Inc/Squarespace 6//v6//EN
BEGIN:VEVENT
UID:5a51737d71c10b6703b376bd@squarespace.com
DTSTAMP:20180202T073044Z
DTSTART:20180210T130000Z
DTEND:20180210T160000Z
SUMMARY:Grading Day
END:VEVENT
END:VCALENDAR
