BEGIN:VCALENDAR
VERSION:2.0
PRODID:-//Squarespace Inc/Squarespace 6//v6//EN
BEGIN:VEVENT
UID:5a74165af9619aaffdd8c982@squarespace.com
DTSTAMP:20180202T074444Z
DTSTART:20181010T210000Z
DTEND:20181011T010000Z
SUMMARY:Night Season Commences
END:VEVENT
END:VCALENDAR
