BEGIN:VCALENDAR
VERSION:2.0
PRODID:-//Squarespace Inc/Squarespace 6//v6//EN
BEGIN:VEVENT
UID:588efe3fa5790aa54e6acacb@squarespace.com
DTSTAMP:20180112T043630Z
DTSTART:20180428T160000Z
DTEND:20180428T210000Z
SUMMARY:Round 4 Fixtures 
END:VEVENT
END:VCALENDAR
