BEGIN:VCALENDAR
VERSION:2.0
PRODID:-//Squarespace Inc/Squarespace 6//v6//EN
BEGIN:VEVENT
UID:588efdd6e6f2e152d3efb358@squarespace.com
DTSTAMP:20180107T011625Z
DTSTART:20180324T160000Z
DTEND:20180324T210000Z
SUMMARY:Round 2 Fixtures 
END:VEVENT
END:VCALENDAR
