BEGIN:VCALENDAR
VERSION:2.0
PRODID:-//Squarespace Inc/Squarespace 6//v6//EN
BEGIN:VEVENT
UID:588ef62c414fb55621e4aa61@squarespace.com
DTSTAMP:20180107T011307Z
DTSTART:20180203T140000Z
DTEND:20180203T170000Z
SUMMARY:Player Registration Day
END:VEVENT
END:VCALENDAR
